BEGIN:VCALENDAR
VERSION:2.0
METHOD:PUBLISH
CALSCALE:GREGORIAN
PRODID:-//WordPress - MECv7.21.0//EN
X-ORIGINAL-URL:https://www.albert-konzerte.de/
X-WR-CALNAME:Albert Konzerte
X-WR-CALDESC:Klassik-Konzerte in Freiburg
REFRESH-INTERVAL;VALUE=DURATION:PT1H
X-PUBLISHED-TTL:PT1H
X-MS-OLK-FORCEINSPECTOROPEN:TRUE
BEGIN:VEVENT
CLASS:PUBLIC
UID:MEC-dd7c88750b46a26c45c098566f73d378@albert-konzerte.de
DTSTART:20261121T180000Z
DTEND:20261121T200000Z
DTSTAMP:20260323T125500Z
CREATED:20260323
LAST-MODIFIED:20260323
PRIORITY:5
SEQUENCE:134
TRANSP:OPAQUE
SUMMARY:Quatuor Modigliani\nAlbert-Kammermusik-Zyklus 2026/27
DESCRIPTION:Programm:\nMozart, Adagio und Fuge für Streichquarte
 tt c-Moll KV 546\nDebussy, Streichquartett g-Moll op. 10\nBeeth
 oven, Streichquartett Nr. 15 a-Moll op. 132\nQuatuor Modigliani
URL:https://albert-konzerte.reservix.de/p/reservix/event/2496844
ORGANIZER;CN=Albert Konzerte GmbH:MAILTO:info@albert-konzerte.de
CATEGORIES:Kammermusik-Zyklus 2026/27
LOCATION:Hochschule für Musik Freiburg, Mendelssohn-Bartholdy-Pl
 atz 1, 79102 Freiburg im Breisgau
END:VEVENT
BEGIN:VEVENT
CLASS:PUBLIC
UID:MEC-d4a938257c3ae3e323c94797f75a0524@albert-konzerte.de
DTSTART:20270127T180000Z
DTEND:20270127T200000Z
DTSTAMP:20260323T125500Z
CREATED:20260323
LAST-MODIFIED:20260323
PRIORITY:5
SEQUENCE:136
TRANSP:OPAQUE
SUMMARY:Sol Gabetta & Bertrand Chamayou\nAlbert-Kammermusik-Zyk
 lus 2026/27
DESCRIPTION:Programm:\nBritten, Sonate für Violoncello und Klavi
 er op. 65\nGrieg, Sonate für Violoncello und Klavier a-Moll op
 . 36\nLutoslawski, Grave – Metamorphosen für Violoncello und Kl
 avier\nRachmaninow, Sonate für Violoncello und Klavier g-Moll o
 p. 19\nSol Gabetta, Violoncello\nBertrand Chamayou, Klavier
URL:https://albert-konzerte.reservix.de/p/reservix/event/2496843
ORGANIZER;CN=Albert Konzerte GmbH:MAILTO:info@albert-konzerte.de
CATEGORIES:Kammermusik-Zyklus 2026/27
LOCATION:Konzerthaus Freiburg, Konrad-Adenauer-Platz 1, 79098 Fr
 eiburg im Breisgau
END:VEVENT
BEGIN:VEVENT
CLASS:PUBLIC
UID:MEC-34662410ceec47a14953059e1a1ceed1@albert-konzerte.de
DTSTART:20270224T180000Z
DTEND:20270224T200000Z
DTSTAMP:20260323T125500Z
CREATED:20260323
LAST-MODIFIED:20260323
PRIORITY:5
SEQUENCE:137
TRANSP:OPAQUE
SUMMARY:Tabea Zimmermann, Jean-Guihen Queyras & Javier Perianes
 \nAlbert-Kammermusik-Zyklus 2026/27
DESCRIPTION:Programm:\nSchumann, Fantasiestücke op. 73\nClara Sc
 humann, Drei Romanzen op. 22\nJoachim, Hebräische Melodien op. 
 9\nBrahms, Vier Balladen und Romanzen op. 75\nBrahms, Drei Inte
 rmezzi op. 117\nKurtág, Auszüge aus „Signs, Games and Messages“
 \nBrahms, Klarinettentrio op. 114 (arr. Brahms für Viola, Violo
 ncello und Klavier)\nTabea Zimmermann, Viola\nJean-Guihen Queyr
 as, Violoncello\nJavier Perianes, Klavier
URL:https://albert-konzerte.reservix.de/p/reservix/event/2496861
ORGANIZER;CN=Albert Konzerte GmbH:MAILTO:info@albert-konzerte.de
CATEGORIES:Kammermusik-Zyklus 2026/27
LOCATION:Hochschule für Musik Freiburg, Mendelssohn-Bartholdy-Pl
 atz 1, 79102 Freiburg im Breisgau
END:VEVENT
BEGIN:VEVENT
CLASS:PUBLIC
UID:MEC-7bd4fd545ca2f255550a8fd6a4722446@albert-konzerte.de
DTSTART:20270304T180000Z
DTEND:20270304T200000Z
DTSTAMP:20260323T131100Z
CREATED:20260323
LAST-MODIFIED:20260323
PRIORITY:5
SEQUENCE:139
TRANSP:OPAQUE
SUMMARY:Klavierquartett Julian Rachlin, Sarah McElravy, Raphael
 a Gromes, Julian Riem\nAlbert-Kammermusik-Zyklus 2026/27
DESCRIPTION:Programm:\nMozart, Klavierquartett Es-Dur KV 493\nMa
 hler, Quartettsatz a-Moll\nBrahms, Klavierquartett A-Dur op. 2
 6\nKlavierquartett\nJulian Rachlin, Violine\nSarah McElravy, Vi
 ola\nRaphaela Gromes, Violoncello\nJulian Riem, Klavier
URL:https://albert-konzerte.reservix.de/p/reservix/event/2496868
ORGANIZER;CN=Albert Konzerte GmbH:MAILTO:info@albert-konzerte.de
CATEGORIES:Kammermusik-Zyklus 2026/27
LOCATION:Hochschule für Musik Freiburg, Mendelssohn-Bartholdy-Pl
 atz 1, 79102 Freiburg im Breisgau
END:VEVENT
BEGIN:VEVENT
CLASS:PUBLIC
UID:MEC-2f9ce287211a6572399b5026a590d195@albert-konzerte.de
DTSTART:20270319T180000Z
DTEND:20270319T200000Z
DTSTAMP:20260323T125500Z
CREATED:20260323
LAST-MODIFIED:20260323
PRIORITY:5
SEQUENCE:143
TRANSP:OPAQUE
SUMMARY:Leonkoro Quartett\nAlbert-Kammermusik-Zyklus 2026/27
DESCRIPTION:Programm:\nBeethoven, Streichquartett Nr. 4 c-Mol
 l op. 18/4\nSchostakowitsch, Streichquartett Nr. 8 c-Moll op. 1
 10\nSchubert, Streichquartett Nr. 13 a-Moll D 804 „Rosamunde“\n
 Leonkoro Quartett
URL:https://albert-konzerte.reservix.de/p/reservix/event/2496865
ORGANIZER;CN=Albert Konzerte GmbH:MAILTO:info@albert-konzerte.de
CATEGORIES:Kammermusik-Zyklus 2026/27
LOCATION:Hochschule für Musik Freiburg, Mendelssohn-Bartholdy-Pl
 atz 1, 79102 Freiburg im Breisgau
END:VEVENT
BEGIN:VEVENT
CLASS:PUBLIC
UID:MEC-12d29d5c5e0241bd62b01c442312eb52@albert-konzerte.de
DTSTART:20270409T170000Z
DTEND:20270409T190000Z
DTSTAMP:20260323T115600Z
CREATED:20260323
LAST-MODIFIED:20260323
PRIORITY:5
SEQUENCE:142
TRANSP:OPAQUE
SUMMARY:Klavierabend Khatia Buniatishvili\nAlbert-Kammermusik-Zy
 klus 2026/27
DESCRIPTION:Programm:\nSchumann, Fantasie C-Dur op. 17\nBrahms
 , Rhapsodie g-Moll op. 79/2\nBrahms, Intermezzo Es-Dur op. 117/
 1, Intermezzo b-Moll op. 117/2, Intermezzo A-Dur op. 118/2\nCho
 pin, Scherzo Nr. 2 b-Moll op. 31\nGubaidulina, Lied des Fischer
 s (aus „Musical Toys“ für Klavier)\nProkofjew, Klaviersonate Nr
 . 7 B-Dur op. 83\nKhatia Buniatishvili, Klavier
URL:https://albert-konzerte.reservix.de/p/reservix/event/2496853
ORGANIZER;CN=Albert Konzerte GmbH:MAILTO:info@albert-konzerte.de
CATEGORIES:Kammermusik-Zyklus 2026/27
LOCATION:Konzerthaus Freiburg, Konrad-Adenauer-Platz 1, 79098 Fr
 eiburg im Breisgau
END:VEVENT
END:VCALENDAR
