BEGIN:VCALENDAR
VERSION:2.0
METHOD:PUBLISH
CALSCALE:GREGORIAN
PRODID:-//WordPress - MECv7.21.0//EN
X-ORIGINAL-URL:https://www.albert-konzerte.de/
X-WR-CALNAME:Albert Konzerte
X-WR-CALDESC:Klassik-Konzerte in Freiburg
REFRESH-INTERVAL;VALUE=DURATION:PT1H
X-PUBLISHED-TTL:PT1H
X-MS-OLK-FORCEINSPECTOROPEN:TRUE
BEGIN:VEVENT
CLASS:PUBLIC
UID:MEC-5cd00703b9f76cf9d58e542811393f67@albert-konzerte.de
DTSTART:20261025T190000Z
DTEND:20261025T210000Z
DTSTAMP:20260323T123100Z
CREATED:20260323
LAST-MODIFIED:20260323
PRIORITY:5
SEQUENCE:105
TRANSP:OPAQUE
SUMMARY:Augustin Hadelich, Daniele Gatti & Sächsische Staatskape
 lle Dresden\nAlbert-Konzerthaus-Zyklus 2026/27
DESCRIPTION:Programm:\nBeethoven, Violinkonzert D-Dur op. 61\nBr
 ahms, Symphonie Nr. 2 D-Dur op. 73\n\nAugustin Hadelich, Violin
 e\nDaniele Gatti, Dirigent\nSächsische Staatskapelle Dresden
URL:https://albert-konzerte.reservix.de/p/reservix/event/2496402
ORGANIZER;CN=Albert Konzerte GmbH:MAILTO:info@albert-konzerte.de
CATEGORIES:Konzerthaus-Zyklus 2026/27
LOCATION:Konzerthaus Freiburg, Konrad-Adenauer-Platz 1, 79098 Fr
 eiburg im Breisgau
END:VEVENT
BEGIN:VEVENT
CLASS:PUBLIC
UID:MEC-6ea6f37c28354e994795384f82e200d2@albert-konzerte.de
DTSTART:20261116T190000Z
DTEND:20261116T210000Z
DTSTAMP:20260323T123100Z
CREATED:20260323
LAST-MODIFIED:20260323
PRIORITY:5
SEQUENCE:112
TRANSP:OPAQUE
SUMMARY:Lukas Sternath, Kazuki Yamada & City of Birmingham Symph
 ony Orchestra\nAlbert-Konzerthaus-Zyklus 2026/27
DESCRIPTION:Programm:\nBrahms, Klavierkonzert Nr. 2 B-Dur op. 83
 \nBartók, Konzert für Orchester Sz 116\n\nLukas Sternath, Klavi
 er\nKazuki Yamada, Dirigent\nCity of Birmingham Symphony Orches
 tra
URL:https://albert-konzerte.reservix.de/p/reservix/event/2496408
ORGANIZER;CN=Albert Konzerte GmbH:MAILTO:info@albert-konzerte.de
CATEGORIES:Konzerthaus-Zyklus 2026/27
LOCATION:Konzerthaus Freiburg, Konrad-Adenauer-Platz 1, 79098 Fr
 eiburg im Breisgau
END:VEVENT
BEGIN:VEVENT
CLASS:PUBLIC
UID:MEC-0cc0573dc3c00da89c04e5a8259ef832@albert-konzerte.de
DTSTART:20261202T190000Z
DTEND:20261202T210000Z
DTSTAMP:20260323T123200Z
CREATED:20260323
LAST-MODIFIED:20260323
PRIORITY:5
SEQUENCE:113
TRANSP:OPAQUE
SUMMARY:Sheku Kanneh-Mason, Gábor Takács-Nagy & Verbier Festiva
 l Chamber Orchestra\nAlbert-Konzerthaus-Zyklus 2026/27
DESCRIPTION:Programm:\nMozart, Symphonie Nr. 38 D-Dur KV 504 „Pr
 ager Symphonie“\nHaydn, Violoncellokonzert Nr. 1 C-Dur Hob. VII
 b:1\nHaydn, Violoncellokonzert Nr. 2 D-Dur Hob. VIIb:2\nBeethov
 en, Symphonie Nr. 2 D-Dur op. 36\n\nSheku Kanneh-Mason, Violonc
 ello\nGábor Takács-Nagy, Dirigent\nVerbier Festival Chamber Orc
 hestra
URL:https://albert-konzerte.reservix.de/p/reservix/event/2496411
ORGANIZER;CN=Albert Konzerte GmbH:MAILTO:info@albert-konzerte.de
CATEGORIES:Konzerthaus-Zyklus 2026/27
LOCATION:Konzerthaus Freiburg, Konrad-Adenauer-Platz 1, 79098 Fr
 eiburg im Breisgau
END:VEVENT
BEGIN:VEVENT
CLASS:PUBLIC
UID:MEC-e06ce33379b8f9ba498329e4fd809159@albert-konzerte.de
DTSTART:20270203T190000Z
DTEND:20270203T210000Z
DTSTAMP:20260323T123200Z
CREATED:20260323
LAST-MODIFIED:20260323
PRIORITY:5
SEQUENCE:116
TRANSP:OPAQUE
SUMMARY:Jan Lisiecki, Vasily Petrenko & Royal Philharmonic Orche
 stra\nAlbert-Konzerthaus-Zyklus 2026/27
DESCRIPTION:Programm:\nButterworth, A Shropshire Lad – Rhapsod
 y for Orchestra\nProkofjew, Klavierkonzert Nr. 2 g-Moll op. 16\
 nBeethoven, Symphonie Nr. 5 c-Moll op. 67\n\nJan Lisiecki, Klav
 ier\nVasily Petrenko, Dirigent\nRoyal Philharmonic Orchestra
URL:https://albert-konzerte.reservix.de/p/reservix/event/2496416
ORGANIZER;CN=Albert Konzerte GmbH:MAILTO:info@albert-konzerte.de
CATEGORIES:Konzerthaus-Zyklus 2026/27
LOCATION:Konzerthaus Freiburg, Konrad-Adenauer-Platz 1, 79098 Fr
 eiburg im Breisgau
END:VEVENT
BEGIN:VEVENT
CLASS:PUBLIC
UID:MEC-14739f8f2f934dd79f02c43efddf2ff8@albert-konzerte.de
DTSTART:20270226T190000Z
DTEND:20270226T210000Z
DTSTAMP:20260323T123200Z
CREATED:20260323
LAST-MODIFIED:20260323
PRIORITY:5
SEQUENCE:118
TRANSP:OPAQUE
SUMMARY:María Dueñas, Andrés Orozco-Estrada & Filarmónica Jove
 n de Colombia\nAlbert-Konzerthaus-Zyklus 2026/27
DESCRIPTION:Programm:\nLalo, Rhapsodie Espagnole\nStrawinsky, De
 r Feuervogel\n\nMaría Dueñas, Violine\nAndrés Orozco-Estrada, D
 irigent\nFilarmónica Joven de Colombia
URL:https://albert-konzerte.reservix.de/p/reservix/event/2496421
ORGANIZER;CN=Albert Konzerte GmbH:MAILTO:info@albert-konzerte.de
CATEGORIES:Konzerthaus-Zyklus 2026/27
LOCATION:Konzerthaus Freiburg, Konrad-Adenauer-Platz 1, 79098 Fr
 eiburg im Breisgau
END:VEVENT
BEGIN:VEVENT
CLASS:PUBLIC
UID:MEC-2e9806f9d005b04bf29665e786d9b845@albert-konzerte.de
DTSTART:20270416T180000Z
DTEND:20270416T200000Z
DTSTAMP:20260323T113200Z
CREATED:20260323
LAST-MODIFIED:20260323
PRIORITY:5
SEQUENCE:123
TRANSP:OPAQUE
SUMMARY:Hilary Hahn, Vladimir Jurowski & London Philharmonic Orc
 hestra\nAlbert-Konzerthaus-Zyklus 2026/27
DESCRIPTION:Programm:\nWagner, Vorspiel zum 1. Aufzug des Bühnen
 weihfestspiels „Parsifal“\nMendelssohn, Violinkonzert e-Moll op
 . 64\nBruckner, Symphonie Nr. 7 E-Dur WAB 107\nBesetzung:\n\nHi
 lary Hahn, Violine\nVladimir Jurowski, Dirigent\nLondon Philhar
 monic Orchestra
URL:https://albert-konzerte.reservix.de/p/reservix/event/2496424
ORGANIZER;CN=Albert Konzerte GmbH:MAILTO:info@albert-konzerte.de
CATEGORIES:Konzerthaus-Zyklus 2026/27
LOCATION:Konzerthaus Freiburg, Konrad-Adenauer-Platz 1, 79098 Fr
 eiburg im Breisgau
END:VEVENT
BEGIN:VEVENT
CLASS:PUBLIC
UID:MEC-71c722e063b38e2411d1c766bcd2ccb8@albert-konzerte.de
DTSTART:20270424T180000Z
DTEND:20270424T200000Z
DTSTAMP:20260323T113300Z
CREATED:20260323
LAST-MODIFIED:20260323
PRIORITY:5
SEQUENCE:126
TRANSP:OPAQUE
SUMMARY:Emmanuel Pahud, François Leleux & Kammerakademie Potsda
 m\nAlbert-Konzerthaus-Zyklus 2026/27
DESCRIPTION:Programm:\nSchubert, Ouvertüre C-Dur „Im italienisch
 en Stil“\nMozart, Flötenkonzert Nr. 2 D-Dur KV 314\nRossini, Gu
 illaume Tell – Duo Brillant (arr. Demersseman für Flöte, Oboe u
 nd Orchester)\nMendelssohn, Symphonie Nr. 4 A-Dur op. 90 „Itali
 enische“\n\nEmmanuel Pahud, Flöte\nFrançois Leleux, Oboe und Di
 rigent\nKammerakademie Potsdam
URL:https://albert-konzerte.reservix.de/p/reservix/event/2496426
ORGANIZER;CN=Albert Konzerte GmbH:MAILTO:info@albert-konzerte.de
CATEGORIES:Konzerthaus-Zyklus 2026/27
LOCATION:Konzerthaus Freiburg, Konrad-Adenauer-Platz 1, 79098 Fr
 eiburg im Breisgau
END:VEVENT
BEGIN:VEVENT
CLASS:PUBLIC
UID:MEC-ef93113daf64285642a85fb159236e59@albert-konzerte.de
DTSTART:20270530T180000Z
DTEND:20270530T200000Z
DTSTAMP:20260323T113300Z
CREATED:20260323
LAST-MODIFIED:20260323
PRIORITY:5
SEQUENCE:130
TRANSP:OPAQUE
SUMMARY:Gautier Capuçon, Joana Mallwitz & Konzerthausorchester B
 erlin\nAlbert-Konzerthaus-Zyklus 2026/27
DESCRIPTION:Programm:\nDvorák, Violoncellokonzert h-Moll op. 10
 4\nTschaikowsky, Symphonie Nr. 5 e-Moll op. 64\n\nGautier Capuç
 on, Violoncello\nJoana Mallwitz, Dirigentin\nKonzerthausorchest
 er Berlin
URL:https://albert-konzerte.reservix.de/p/reservix/event/2496431
ORGANIZER;CN=Albert Konzerte GmbH:MAILTO:info@albert-konzerte.de
CATEGORIES:Konzerthaus-Zyklus 2026/27
LOCATION:Konzerthaus Freiburg, Konrad-Adenauer-Platz 1, 79098 Fr
 eiburg im Breisgau
END:VEVENT
END:VCALENDAR
